BEGIN:VCALENDAR
VERSION:2.0
PRODID:-//OJB - ECPv5.10.0//NONSGML v1.0//EN
CALSCALE:GREGORIAN
METHOD:PUBLISH
X-WR-CALNAME:OJB
X-ORIGINAL-URL:https://www.ojb.at
X-WR-CALDESC:Veranstaltungen für OJB
BEGIN:VTIMEZONE
TZID:Europe/Berlin
BEGIN:DAYLIGHT
TZOFFSETFROM:+0100
TZOFFSETTO:+0200
TZNAME:CEST
DTSTART:20180325T010000
END:DAYLIGHT
BEGIN:STANDARD
TZOFFSETFROM:+0200
TZOFFSETTO:+0100
TZNAME:CET
DTSTART:20181028T010000
END:STANDARD
END:VTIMEZONE
BEGIN:VEVENT
DTSTART;TZID=Europe/Berlin:20180901T080000
DTEND;TZID=Europe/Berlin:20180901T080000
DTSTAMP:20260421T180635
CREATED:20180620T140555Z
LAST-MODIFIED:20180620T140902Z
UID:994-1535788800-1535788800@www.ojb.at
SUMMARY:Canyoning
DESCRIPTION:Canyoning und Schluchtwandern in der Ach. \nAusweichtermin bei schlecht Wetter\nSonntag 16. September 2018. \nSelbstbehalt: € 20.– \nAnmeldung unter 0664/1123148
URL:https://www.ojb.at/kalender/canyoning/
CATEGORIES:Offene Jugendarbeit Bregenzerwald
ATTACH;FMTTYPE=image/jpeg:https://www.ojb.at/wp-content/uploads/2018/06/canyoning.jpeg
END:VEVENT
END:VCALENDAR