BEGIN:VCALENDAR
VERSION:2.0
PRODID:-//OJB - ECPv5.10.0//NONSGML v1.0//EN
CALSCALE:GREGORIAN
METHOD:PUBLISH
X-WR-CALNAME:OJB
X-ORIGINAL-URL:https://www.ojb.at
X-WR-CALDESC:Veranstaltungen für OJB
BEGIN:VTIMEZONE
TZID:Europe/Berlin
BEGIN:DAYLIGHT
TZOFFSETFROM:+0100
TZOFFSETTO:+0200
TZNAME:CEST
DTSTART:20180325T010000
END:DAYLIGHT
BEGIN:STANDARD
TZOFFSETFROM:+0200
TZOFFSETTO:+0100
TZNAME:CET
DTSTART:20181028T010000
END:STANDARD
END:VTIMEZONE
BEGIN:VEVENT
DTSTART;TZID=Europe/Berlin:20180706T170000
DTEND;TZID=Europe/Berlin:20180706T210000
DTSTAMP:20260422T025438
CREATED:20180619T074540Z
LAST-MODIFIED:20180621T090544Z
UID:973-1530896400-1530910800@www.ojb.at
SUMMARY:Doren genießt
DESCRIPTION:Jugendliche und das OJB Team kochen was Leckeres für euch.
URL:https://www.ojb.at/kalender/doren-geniesst/
LOCATION:Dorfplatz Doren\, Dorfplatz\, Doren\, 6933\, Österreich
CATEGORIES:Offene Jugendarbeit Bregenzerwald
ATTACH;FMTTYPE=image/jpeg:https://www.ojb.at/wp-content/uploads/2018/06/dorenkocht.jpeg
END:VEVENT
END:VCALENDAR