BEGIN:VCALENDAR
VERSION:2.0
PRODID:-//OJB - ECPv5.10.0//NONSGML v1.0//EN
CALSCALE:GREGORIAN
METHOD:PUBLISH
X-WR-CALNAME:OJB
X-ORIGINAL-URL:https://www.ojb.at
X-WR-CALDESC:Veranstaltungen für OJB
BEGIN:VTIMEZONE
TZID:Europe/Berlin
BEGIN:DAYLIGHT
TZOFFSETFROM:+0100
TZOFFSETTO:+0200
TZNAME:CEST
DTSTART:20180325T010000
END:DAYLIGHT
BEGIN:STANDARD
TZOFFSETFROM:+0200
TZOFFSETTO:+0100
TZNAME:CET
DTSTART:20181028T010000
END:STANDARD
END:VTIMEZONE
BEGIN:VEVENT
DTSTART;TZID=Europe/Berlin:20181201T140000
DTEND;TZID=Europe/Berlin:20181202T170000
DTSTAMP:20260422T031122
CREATED:20181009T130754Z
LAST-MODIFIED:20181009T130755Z
UID:1146-1543672800-1543770000@www.ojb.at
SUMMARY:Finest Designmarkt #3
DESCRIPTION:Schöne und rare Sachen\, \ndie Freude machen.\nWinter Edition.\n \nDer Finest ist eine Plattform für Menschen\, die Schönes\, Rares und Schlaues machen\, zeigen und verkaufen wollen. Wir – die Offene Jugendarbeit Bregenzerwald und Team der Guten Stube – mögen so Menschen besonders gerne. Deshalb öffnen wir die Gute Stube in Andelsbuch für diesen feinen Designmarkt. \n  \nTermin\n1. Dezember 2018\nSamstag\, 14 – 19 Uhr \n2. Dezember 2018\nSonntag\, 10.30 – 17 Uhr \nEintritt\nErwachsene 3 Euro.\nKinder bis 12 Jahre gratis. \nLocation\nDie Gute Stube\nHof 432\n6866 Andelsbuch \nVeranstalter\nVerein\, Offene Jugendarbeit Bregenzerwald\, folgend nur noch OJB genannt.\nHof 432\, 6866 Andelsbuch\, http://www.ojb.at. \nDie Gute Stube bespielt Leerstand. Bietet regionale Raumstruktur und fördert darin Ideen\, Formate und Projekte. Genau hier ist Platz für Dich und Dein Tun. http://www.stube-online.com . Hof 432 . 6866 Andelsbuch \n\nJetzt Neu: \nWelcome StartUps\, Projekte und Vereine \nNeben den Schönen und Raren Sachen aus den Kategorien \n\nProduktdesign\nInterior / Möbeldesign\nSchmuck\nAccessoires\nMode / Fashion\nPapeterie\nIllustration\nGrafikdesign\nFotografie\nKunst\nDekoratives\nKids / Baby\nGastronomie / Street Food (vor Ort)\nLebensmittel / Delikatessen (zum Mitnehmen) und\nBeauty / Kosmetik\n\nsind heuer auch \n\nVereine\nStartUps und\nProjekte\n\nherzlich willkommen.
URL:https://www.ojb.at/kalender/finest-designmarkt-3/
LOCATION:Die Gute Stube\, Hof 432\, Andelsbuch\, Vorarlberg\, 6866\, Österreich
CATEGORIES:Die Gute Stube,Offene Jugendarbeit Bregenzerwald
ATTACH;FMTTYPE=image/jpeg:https://www.ojb.at/wp-content/uploads/2018/10/1210_DGS_Finest3_Facebook_Veranstaltung_Header.jpg
ORGANIZER;CN="Die%20Gute%20Stube":MAILTO:simone@ojb.at
END:VEVENT
END:VCALENDAR