BEGIN:VCALENDAR
VERSION:2.0
PRODID:-//OJB - ECPv5.10.0//NONSGML v1.0//EN
CALSCALE:GREGORIAN
METHOD:PUBLISH
X-WR-CALNAME:OJB
X-ORIGINAL-URL:https://www.ojb.at
X-WR-CALDESC:Veranstaltungen für OJB
BEGIN:VTIMEZONE
TZID:Europe/Berlin
BEGIN:DAYLIGHT
TZOFFSETFROM:+0100
TZOFFSETTO:+0200
TZNAME:CEST
DTSTART:20190331T010000
END:DAYLIGHT
BEGIN:STANDARD
TZOFFSETFROM:+0200
TZOFFSETTO:+0100
TZNAME:CET
DTSTART:20191027T010000
END:STANDARD
END:VTIMEZONE
BEGIN:VEVENT
DTSTART;TZID=Europe/Berlin:20191029T170000
DTEND;TZID=Europe/Berlin:20191029T190000
DTSTAMP:20260421T142912
CREATED:20190626T135434Z
LAST-MODIFIED:20190626T140442Z
UID:1473-1572368400-1572375600@www.ojb.at
SUMMARY:Fingerfood mit Style im Klein Wien Doren
DESCRIPTION:Fingerfood mit Style – be prepared für deine Party\nAm Dienstag\, dem 29. Oktober verwandelt sich das Klein Wien Doren in eine Fingerfood-Küche.\nProbiere mit uns verschiedene einfache\, aber leckere Snacks\, die du dann auch deinen Freunden servieren kannst. \nMehr Informationen über Klein Wien in Doren.
URL:https://www.ojb.at/kalender/fingerfood-mit-style-im-klein-wien-doren/
LOCATION:Klein Wien Doren\, Kirchdorf 168\, Doren\, Vorarlberg\, 6933\, Österreich
CATEGORIES:Offene Jugendarbeit Bregenzerwald
ATTACH;FMTTYPE=image/jpeg:https://www.ojb.at/wp-content/uploads/2019/06/fingerfood_doren_igor-miske-_6jk-nvKRK0-unsplash.jpg
END:VEVENT
END:VCALENDAR