BEGIN:VCALENDAR
VERSION:2.0
PRODID:-//OJB - ECPv5.10.0//NONSGML v1.0//EN
CALSCALE:GREGORIAN
METHOD:PUBLISH
X-WR-CALNAME:OJB
X-ORIGINAL-URL:https://www.ojb.at
X-WR-CALDESC:Veranstaltungen für OJB
BEGIN:VTIMEZONE
TZID:Europe/Berlin
BEGIN:DAYLIGHT
TZOFFSETFROM:+0100
TZOFFSETTO:+0200
TZNAME:CEST
DTSTART:20190331T010000
END:DAYLIGHT
BEGIN:STANDARD
TZOFFSETFROM:+0200
TZOFFSETTO:+0100
TZNAME:CET
DTSTART:20191027T010000
END:STANDARD
END:VTIMEZONE
BEGIN:VEVENT
DTSTART;TZID=Europe/Berlin:20190703T143000
DTEND;TZID=Europe/Berlin:20190703T180000
DTSTAMP:20260421T134204
CREATED:20190626T121931Z
LAST-MODIFIED:20190626T122016Z
UID:1431-1562164200-1562176800@www.ojb.at
SUMMARY:FLiP2Go Bus in Egg
DESCRIPTION:  \nDer FLiP2Go Bus macht in der Sparkasse Egg halt\nDu bist zwischen 10 und 16 Jahre? Dann sei dabei und spiele die 7 coolen\, interaktiven Stationen im FLiP2Go Bus und fördere dein Finanzwissen. \nDie Offene Jugendarbeit Bregenzerwald ist mit einem Funcorner vor Ort. Mit Sommerlounge und Bar und coolem Sound bieten wir euch einen chilligen Nachmittag in Egg. Wir freuen uns auf euer kommen.
URL:https://www.ojb.at/kalender/flip2go-bus-in-egg/
LOCATION:Sparkasse Egg\, Loco 873\, Egg\, Vorarlberg\, 6863\, Österreich
CATEGORIES:Offene Jugendarbeit Bregenzerwald
END:VEVENT
END:VCALENDAR