BEGIN:VCALENDAR
VERSION:2.0
PRODID:-//OJB - ECPv5.10.0//NONSGML v1.0//EN
CALSCALE:GREGORIAN
METHOD:PUBLISH
X-WR-CALNAME:OJB
X-ORIGINAL-URL:https://www.ojb.at
X-WR-CALDESC:Veranstaltungen für OJB
BEGIN:VTIMEZONE
TZID:Europe/Berlin
BEGIN:DAYLIGHT
TZOFFSETFROM:+0100
TZOFFSETTO:+0200
TZNAME:CEST
DTSTART:20190331T010000
END:DAYLIGHT
BEGIN:STANDARD
TZOFFSETFROM:+0200
TZOFFSETTO:+0100
TZNAME:CET
DTSTART:20191027T010000
END:STANDARD
END:VTIMEZONE
BEGIN:VEVENT
DTSTART;TZID=Europe/Berlin:20190222T180000
DTEND;TZID=Europe/Berlin:20190222T220000
DTSTAMP:20260423T010841
CREATED:20190207T092212Z
LAST-MODIFIED:20190207T092212Z
UID:1264-1550858400-1550872800@www.ojb.at
SUMMARY:Fresh Hittisau – Offener Betrieb im Jugendraum
DESCRIPTION:Besuch uns doch im Fresh Hittisau\, bei gutem Sound\, kühlen Drinks und Snacks in gemütlicher Atmosphäre bzw. auf voller Tanzfläche ;). \nGib deiner Kreativität Raum\, setze deine Ideen um und sei mittendrin und nicht nur dabei. \nWir sind immer offen für neue Teammitglieder\, die den Jugendraum unterstützen und beleben. Deine Tätigkeiten wären unter anderem: Bar Dienst\, DJ\, Organisation von Veranstaltungen\, Teamausflüge genießen und Vieles mehr. \nDas Fresh Team und die OJB freuen sich auf Dich!
URL:https://www.ojb.at/kalender/fresh-hittisau-offener-betrieb-im-jugendraum-20/
LOCATION:Fresh Hittisau\, Hof\, Hittisau\, 6952\, Österreich
CATEGORIES:Fresh Hittisau,Offene Jugendarbeit Bregenzerwald
ATTACH;FMTTYPE=image/jpeg:https://www.ojb.at/wp-content/uploads/2018/02/Fresh_Hittisau_ojb_Graffitti.jpg
END:VEVENT
END:VCALENDAR