BEGIN:VCALENDAR
VERSION:2.0
PRODID:-//OJB - ECPv5.10.0//NONSGML v1.0//EN
CALSCALE:GREGORIAN
METHOD:PUBLISH
X-WR-CALNAME:OJB
X-ORIGINAL-URL:https://www.ojb.at
X-WR-CALDESC:Veranstaltungen für OJB
BEGIN:VTIMEZONE
TZID:Europe/Berlin
BEGIN:DAYLIGHT
TZOFFSETFROM:+0100
TZOFFSETTO:+0200
TZNAME:CEST
DTSTART:20180325T010000
END:DAYLIGHT
BEGIN:STANDARD
TZOFFSETFROM:+0200
TZOFFSETTO:+0100
TZNAME:CET
DTSTART:20181028T010000
END:STANDARD
END:VTIMEZONE
BEGIN:VEVENT
DTSTART;TZID=Europe/Berlin:20180823T100000
DTEND;TZID=Europe/Berlin:20180823T100000
DTSTAMP:20260421T204206
CREATED:20180620T135848Z
LAST-MODIFIED:20180620T140056Z
UID:987-1535018400-1535018400@www.ojb.at
SUMMARY:Graffiti Workshop
DESCRIPTION:Graffiti Workshop im Jugendraum in Hittisau. \nAb 10 Uhr\nSelbstbehalt € 5.– \nAnmeldung unter 0664 1123148.
URL:https://www.ojb.at/kalender/graffiti-workshop/
LOCATION:Fresh Hittisau\, Hof\, Hittisau\, 6952\, Österreich
CATEGORIES:Fresh Hittisau
ATTACH;FMTTYPE=image/jpeg:https://www.ojb.at/wp-content/uploads/2018/06/graffiti-WS.jpg
END:VEVENT
END:VCALENDAR