BEGIN:VCALENDAR
VERSION:2.0
PRODID:-//OJB - ECPv5.10.0//NONSGML v1.0//EN
CALSCALE:GREGORIAN
METHOD:PUBLISH
X-WR-CALNAME:OJB
X-ORIGINAL-URL:https://www.ojb.at
X-WR-CALDESC:Veranstaltungen für OJB
BEGIN:VTIMEZONE
TZID:Europe/Berlin
BEGIN:DAYLIGHT
TZOFFSETFROM:+0100
TZOFFSETTO:+0200
TZNAME:CEST
DTSTART:20180325T010000
END:DAYLIGHT
BEGIN:STANDARD
TZOFFSETFROM:+0200
TZOFFSETTO:+0100
TZNAME:CET
DTSTART:20181028T010000
END:STANDARD
END:VTIMEZONE
BEGIN:VEVENT
DTSTART;TZID=Europe/Berlin:20181012T180000
DTEND;TZID=Europe/Berlin:20181012T220000
DTSTAMP:20260421T151631
CREATED:20181009T120947Z
LAST-MODIFIED:20181010T080301Z
UID:1100-1539367200-1539381600@www.ojb.at
SUMMARY:Halloween-Kostümparty
DESCRIPTION:  \nIm Jugendraum Hittisau.\nBitte mitbringen: Gruselkostüm\nUhrzeit: ca. 18 – 22 Uhr\nFreita\, 12. Oktober 2018
URL:https://www.ojb.at/kalender/halloween-kostuemparty/
LOCATION:Fresh Hittisau\, Hof\, Hittisau\, 6952\, Österreich
CATEGORIES:Fresh Hittisau,Offene Jugendarbeit Bregenzerwald
ATTACH;FMTTYPE=image/jpeg:https://www.ojb.at/wp-content/uploads/2018/10/Halloween_beth-teutschmann-154958-unsplash_web.jpg
END:VEVENT
END:VCALENDAR