BEGIN:VCALENDAR
VERSION:2.0
PRODID:-//OJB - ECPv5.10.0//NONSGML v1.0//EN
CALSCALE:GREGORIAN
METHOD:PUBLISH
X-WR-CALNAME:OJB
X-ORIGINAL-URL:https://www.ojb.at
X-WR-CALDESC:Veranstaltungen für OJB
BEGIN:VTIMEZONE
TZID:Europe/Berlin
BEGIN:DAYLIGHT
TZOFFSETFROM:+0100
TZOFFSETTO:+0200
TZNAME:CEST
DTSTART:20180325T010000
END:DAYLIGHT
BEGIN:STANDARD
TZOFFSETFROM:+0200
TZOFFSETTO:+0100
TZNAME:CET
DTSTART:20181028T010000
END:STANDARD
END:VTIMEZONE
BEGIN:VEVENT
DTSTART;TZID=Europe/Berlin:20181019T170000
DTEND;TZID=Europe/Berlin:20181019T220000
DTSTAMP:20260421T121604
CREATED:20181009T125550Z
LAST-MODIFIED:20181009T125550Z
UID:1131-1539968400-1539986400@www.ojb.at
SUMMARY:Handwerk + Form 2018: Nahtstubat – Young Edition
DESCRIPTION:Reaso\, feschto\, sin\n  \n19. Oktober 2018\n17 – 22 Uhr\nDie Gute Stube\nAndelsbuch\n  \nBei der Nahtstubat – young Edition sind alle Jugendlichen ab zwölf Jahren eingeladen\, den Abschluss des Jugendtages der Handwerk+Form 2018 in der Guten Stube Andelsbuch zu feiern. \n  \nAußerdem hast du Gelegenheit\, dich mit Lehrlingen aus dem Bregenzerwald auszutauschen. Das feschto wird auch nicht zu kurz kommen und so sorgen unsere DJ´s Jakob und Stephan für gute Stimmung! \n  \nUm 20:30 gibt es die große Tombola Verlosung.\nAchtung: Um die Chance auf einen der wahnsinns- Hauptpreise zu haben\, musst du bei der Ziehung persönlich anwesend sein! \n  \nAb 12 Jahren\, freier Eintritt\nGroße Tombola!\nAnfahrt mit den Linien des Landbus Bregenzerwald. \n  \nNahtstubat is supported by:\nElektro Willi Andelsbuch\nVieh und Fleischhandel Fetz Andelsbuch\nDür Naturholzmöbel Alberschwende\nAlpe Saluver\nBäckerei Künz Andeslbuch\nBrauerei Egg\nWälderbähnle Bezau\nSutterlüty Ländlemarkt Egg und\nFlugschule Bregenzerwald Jodok Moosbrugger GmbH Bezau. \n  \nKontakt:+43 (0) 664 575 17 89\nTagderjugend.werkraum@gmail.com \n  \nwww.handwerkundform.com\nwww.instagram.com/nahtstubat\nwww.stube-online.com\nwww.werkraum.at
URL:https://www.ojb.at/kalender/handwerk-form-2018-nahtstubat-young-edition/
LOCATION:Die Gute Stube\, Hof 432\, Andelsbuch\, Vorarlberg\, 6866\, Österreich
CATEGORIES:Die Gute Stube,Offene Jugendarbeit Bregenzerwald
ATTACH;FMTTYPE=image/jpeg:https://www.ojb.at/wp-content/uploads/2018/10/Handwerkundform_natstubat_Header_web.jpg
END:VEVENT
END:VCALENDAR