BEGIN:VCALENDAR
VERSION:2.0
PRODID:-//OJB - ECPv5.10.0//NONSGML v1.0//EN
CALSCALE:GREGORIAN
METHOD:PUBLISH
X-WR-CALNAME:OJB
X-ORIGINAL-URL:https://www.ojb.at
X-WR-CALDESC:Veranstaltungen für OJB
BEGIN:VTIMEZONE
TZID:Europe/Berlin
BEGIN:DAYLIGHT
TZOFFSETFROM:+0100
TZOFFSETTO:+0200
TZNAME:CEST
DTSTART:20210328T010000
END:DAYLIGHT
BEGIN:STANDARD
TZOFFSETFROM:+0200
TZOFFSETTO:+0100
TZNAME:CET
DTSTART:20211031T010000
END:STANDARD
END:VTIMEZONE
BEGIN:VEVENT
DTSTART;TZID=Europe/Berlin:20210522T143000
DTEND;TZID=Europe/Berlin:20210522T170000
DTSTAMP:20260421T112041
CREATED:20210515T082814Z
LAST-MODIFIED:20210515T082814Z
UID:2051-1621693800-1621702800@www.ojb.at
SUMMARY:#Jugend&Klima – Setzlinge setzen in Langenegg
DESCRIPTION:#Jugend&Klima\nAm Samstag\, 22.05.2021 um 14:30 Uhr treffen wir uns vor dem Jugendraum Underground  in Langenegg. \nWir setzen zusammen Kraut- und Kohlrabisetzlinge ein.\nNach diesem Workout lassen wir den Workshop am Lagerfeuer mit Stockbrotgrillen ausklingen. \nAlles natürlich unter den gegebenen Bestimmungen zur Covid Maßnamen.\n-> Die gibt es hier zum Nachlesen und Einhalten <–
URL:https://www.ojb.at/kalender/jugendklima-setzlinge-setzen-in-langenegg/
LOCATION:Offene Jugendarbeit Langenegg\, Bach 200\, Langenegg\, Vorarlberg\, 6941\, Österreich
CATEGORIES:Underground Jugendtreff Langenegg
ATTACH;FMTTYPE=image/jpeg:https://www.ojb.at/wp-content/uploads/2021/05/markus-spiske-sFydXGrt5OA-unsplash_web.jpg
END:VEVENT
END:VCALENDAR