BEGIN:VCALENDAR
VERSION:2.0
PRODID:-//OJB - ECPv5.10.0//NONSGML v1.0//EN
CALSCALE:GREGORIAN
METHOD:PUBLISH
X-WR-CALNAME:OJB
X-ORIGINAL-URL:https://www.ojb.at
X-WR-CALDESC:Veranstaltungen für OJB
BEGIN:VTIMEZONE
TZID:Europe/Berlin
BEGIN:DAYLIGHT
TZOFFSETFROM:+0100
TZOFFSETTO:+0200
TZNAME:CEST
DTSTART:20180325T010000
END:DAYLIGHT
BEGIN:STANDARD
TZOFFSETFROM:+0200
TZOFFSETTO:+0100
TZNAME:CET
DTSTART:20181028T010000
END:STANDARD
END:VTIMEZONE
BEGIN:VEVENT
DTSTART;TZID=Europe/Berlin:20181122T190000
DTEND;TZID=Europe/Berlin:20181122T220000
DTSTAMP:20260421T205249
CREATED:20181009T130001Z
LAST-MODIFIED:20181009T130001Z
UID:1139-1542913200-1542924000@www.ojb.at
SUMMARY:Kreativstube – Brush Lettering Workshop für Anfänger mit Anja Pircher
DESCRIPTION:Freelance Grafikerin Anja Pircher verrät ihre Tipps und Tricks über Brush/Hand Lettering und Faux Calligraphy. Beim gemütlichen Kreativworkshop stehen die Basics der wunderbaren Welt der Buchstaben im Mittelpunkt. Auch die richtigen Materialien\, wie Stifte und Papier\, stehen im Mittelpunkt. \nNach einigen Schwungübungen und Step-By-Step Anwendungen mit dem Pinselstift können die neu erlernten Fähigkeiten gleich selbst ausprobieren werden. Weihnachtskarten\, Geschenke und Namensschilder zu gestalten macht nach diesem Kurs um so mehr Spaß. \nDie Kosten beinhalten die Materialkosten für das eigene Starter-Set mit Stiften\, einem Hand Lettering Guide und Papier. Der Workshop ist für Anfänger geeignet. \nTermine\nDo 15.11.2018 / 19-22 Uhr\nDo 22.11.2018 / 19-22 Uhr \nTeilnehmegebühr\nStudenten/SchülerInnen 55\,– €\nNormalpreis 70\,– €\nPreise inkl. Hand Lettering Starter-Set und Materialkosten \nOrt \nDie Gute Stube\,\nHof 432\, 6866 Andelsbuch \nAnmeldung\nAnmeldung: hello@anjapircher.com\nLimitierte Plätze! \nwww.anjapircher.com
URL:https://www.ojb.at/kalender/kreativstube-brush-lettering-workshop-fuer-anfaenger-mit-anja-pircher-2/
LOCATION:Die Gute Stube\, Hof 432\, Andelsbuch\, Vorarlberg\, 6866\, Österreich
CATEGORIES:Die Gute Stube,Offene Jugendarbeit Bregenzerwald
ATTACH;FMTTYPE=image/jpeg:https://www.ojb.at/wp-content/uploads/2018/10/Do-more-of-what-makes-you-happy-mockup.jpg
ORGANIZER;CN="Die%20Gute%20Stube":MAILTO:simone@ojb.at
END:VEVENT
END:VCALENDAR