BEGIN:VCALENDAR
VERSION:2.0
PRODID:-//OJB - ECPv5.10.0//NONSGML v1.0//EN
CALSCALE:GREGORIAN
METHOD:PUBLISH
X-WR-CALNAME:OJB
X-ORIGINAL-URL:https://www.ojb.at
X-WR-CALDESC:Veranstaltungen für OJB
BEGIN:VTIMEZONE
TZID:Europe/Berlin
BEGIN:DAYLIGHT
TZOFFSETFROM:+0100
TZOFFSETTO:+0200
TZNAME:CEST
DTSTART:20180325T010000
END:DAYLIGHT
BEGIN:STANDARD
TZOFFSETFROM:+0200
TZOFFSETTO:+0100
TZNAME:CET
DTSTART:20181028T010000
END:STANDARD
END:VTIMEZONE
BEGIN:VEVENT
DTSTART;TZID=Europe/Berlin:20180607T190000
DTEND;TZID=Europe/Berlin:20180607T220000
DTSTAMP:20260422T222812
CREATED:20180317T191358Z
LAST-MODIFIED:20180317T191358Z
UID:884-1528398000-1528408800@www.ojb.at
SUMMARY:Kreativstube – Pimp your Porcelain
DESCRIPTION:Holt eure Tassen aus dem Schrank\, schnappt euch Großmutters Geschirr\, jetzt wird gedruckt. Die freischaffende Künstlerin Hannah Philomena Scheiber gibt ihr Wissen rund um den keramischen Siebdruck weiter. \nMit dem vorgedruckten ABC\, in verschiedenen Schriftarten und in Schwarz gehalten\, wird das alte Geschirr neu gestaltet. Die Buchstaben können beliebig zusammengesetzt und kombiniert werden. Die angewendete Technik ist der keramische Siebdruck. Diese ist sehr zeitaufwändig und nicht ganz ungiftig. Deshalb hat sich Kursleiterin Hannah dazu entschlossen\, dass vorgefertigte ABC zur Verfügung zu stellen. So bleibt genügend Zeit sich kreativ auszutoben und das technische Wirr-Warr außen vor zu lassen. \nDer Workshop dauert drei Stunden mit inkludierter Kaffeepause. Anschließend wird das pimped Porcelain von Hannah Philomena Scheiber vor Ort im Brennofen gebrannt und kann nach der Fertigstellung in der Guten Stube abgeholt werden.\n \nMitbringen\nAltes Geschirr – Teller\, Tassen\, Kannen und Vasen – aus Porzellan. \nTermin\nDo 07.06.2018 / 19–22 Uhr \nTeilnehmegebühr\nStudenten/SchülerInnen 70\,– €\nNormalpreis 85\,– €\nPreise sind inkl. kurzer Einschulung in die Technik und fertigem ABC.\n(Geschirr muss bitte selbst mitgebracht werden. Telleraufhänger können im Kurs käuflich erworben werden.) \nOrt \nDie Gute Stube\,\nHof 432\, 6866 Andelsbuch \nKursleitung\nMag.art Hannah Philomena Scheiber studierte an der Universität für angewandte Kunst in Wien und war ab 2015 Assistentin für Siebdruck in der Keramikwerstatt an der Angewandten. \nAnmeldung\nAnmeldefrist: 05.06.2018\nAnmeldung: simone@ojb.at\nSuperlimitierte Plätze! \nwww.studioscheiber.com
URL:https://www.ojb.at/kalender/kreativstube-pimp-your-porcelain/
LOCATION:Die Gute Stube\, Hof 432\, Andelsbuch\, Vorarlberg\, 6866\, Österreich
CATEGORIES:Die Gute Stube
ATTACH;FMTTYPE=image/jpeg:https://www.ojb.at/wp-content/uploads/2018/03/Hannah_Philomena_Scheiber_Wandteller.jpg
END:VEVENT
END:VCALENDAR