BEGIN:VCALENDAR
VERSION:2.0
PRODID:-//OJB - ECPv5.10.0//NONSGML v1.0//EN
CALSCALE:GREGORIAN
METHOD:PUBLISH
X-WR-CALNAME:OJB
X-ORIGINAL-URL:https://www.ojb.at
X-WR-CALDESC:Veranstaltungen für OJB
BEGIN:VTIMEZONE
TZID:Europe/Berlin
BEGIN:DAYLIGHT
TZOFFSETFROM:+0100
TZOFFSETTO:+0200
TZNAME:CEST
DTSTART:20180325T010000
END:DAYLIGHT
BEGIN:STANDARD
TZOFFSETFROM:+0200
TZOFFSETTO:+0100
TZNAME:CET
DTSTART:20181028T010000
END:STANDARD
END:VTIMEZONE
BEGIN:VEVENT
DTSTART;TZID=Europe/Berlin:20180711T140000
DTEND;TZID=Europe/Berlin:20180711T193000
DTSTAMP:20260421T230634
CREATED:20180619T075443Z
LAST-MODIFIED:20180619T075443Z
UID:979-1531317600-1531337400@www.ojb.at
SUMMARY:OJB goes Schwimmbad Egg
DESCRIPTION:Mit Funcorner und Slackline
URL:https://www.ojb.at/kalender/ojb-goes-schwimmbad-egg-2/
LOCATION:Schwimmbad Egg\, Gerbe 522\, Egg\, 6863\, Österreich
CATEGORIES:Offene Jugendarbeit Bregenzerwald
ATTACH;FMTTYPE=image/jpeg:https://www.ojb.at/wp-content/uploads/2018/06/ojb_Schwimmbad_egg.jpg
END:VEVENT
END:VCALENDAR