BEGIN:VCALENDAR
VERSION:2.0
PRODID:-//OJB - ECPv5.10.0//NONSGML v1.0//EN
CALSCALE:GREGORIAN
METHOD:PUBLISH
X-WR-CALNAME:OJB
X-ORIGINAL-URL:https://www.ojb.at
X-WR-CALDESC:Veranstaltungen für OJB
BEGIN:VTIMEZONE
TZID:Europe/Berlin
BEGIN:DAYLIGHT
TZOFFSETFROM:+0100
TZOFFSETTO:+0200
TZNAME:CEST
DTSTART:20200329T010000
END:DAYLIGHT
BEGIN:STANDARD
TZOFFSETFROM:+0200
TZOFFSETTO:+0100
TZNAME:CET
DTSTART:20201025T010000
END:STANDARD
END:VTIMEZONE
BEGIN:VEVENT
DTSTART;VALUE=DATE:20200829
DTEND;VALUE=DATE:20200830
DTSTAMP:20260421T114533
CREATED:20200817T150345Z
LAST-MODIFIED:20200818T073006Z
UID:1757-1598659200-1598745599@www.ojb.at
SUMMARY:OJB-Road-Trip – Ausflug nach Hintertux in den Eispalast
DESCRIPTION:  \nDie Offene Jugendarbeit Bregenzerwald nimmt dich mit nach Hintertux in den Eispalast auf 3.250 m. \nDie Gletscherwelt in Hintertux ist ein einzigartiges Naturjuwel mit Ablaufdatum.\nWer sich diese Gelegenheit nicht entgehen lassen möchte kommt am SAMSTAG\, 29.08.2020 mit auf die Reise zu diesem absoluten Highlight in Österreich! \nIm Eispalast erwartet uns eine Bootsfahrt im Gletschersee und für ganz mutige ist Stand-Up-Paddeling (SUP) ist möglich. \nAb 12 Jahren\n25\,– Euro Selbstbehalt\n20\,– Euro Spark7 \nInklusive: Busreise\, Eintritt Palast\, Seilbahn\, Mittagessen\,\nMitzubringen: Jacke\, feste Schuhe\, lange Hose\, Jause für die Busreise \nAnmeldung bei Vanessa:\n0664/2105964
URL:https://www.ojb.at/kalender/ojb-road-trip-ausflug-nach-hintertux-in-den-eispalast/
LOCATION:HIntertux Gletscherwelt
CATEGORIES:Offene Jugendarbeit Bregenzerwald
ATTACH;FMTTYPE=image/jpeg:https://www.ojb.at/wp-content/uploads/2020/08/OJB_Ausflug_2020_Flyer-scaled.jpg
END:VEVENT
END:VCALENDAR