BEGIN:VCALENDAR
VERSION:2.0
PRODID:-//OJB - ECPv5.10.0//NONSGML v1.0//EN
CALSCALE:GREGORIAN
METHOD:PUBLISH
X-WR-CALNAME:OJB
X-ORIGINAL-URL:https://www.ojb.at
X-WR-CALDESC:Veranstaltungen für OJB
BEGIN:VTIMEZONE
TZID:Europe/Berlin
BEGIN:DAYLIGHT
TZOFFSETFROM:+0100
TZOFFSETTO:+0200
TZNAME:CEST
DTSTART:20200329T010000
END:DAYLIGHT
BEGIN:STANDARD
TZOFFSETFROM:+0200
TZOFFSETTO:+0100
TZNAME:CET
DTSTART:20201025T010000
END:STANDARD
END:VTIMEZONE
BEGIN:VEVENT
DTSTART;TZID=Europe/Berlin:20200222T090000
DTEND;TZID=Europe/Berlin:20200222T090000
DTSTAMP:20260421T130809
CREATED:20200213T142133Z
LAST-MODIFIED:20200213T142133Z
UID:1668-1582362000-1582362000@www.ojb.at
SUMMARY:Ojb Shred Day im Snowpark Damüls
DESCRIPTION:Am Start sind Luki on Board und Simon on Free Ski.\nShredn mit den Profis – sie zeigen dir coole Moves über Kicker\, Box und Rails.\n \nSick Date und fresh Time: \nSA 22.2.20\n9:00 Uhr \nTreffpunkt:  \nDamüls\, Sunnegg Ticketschalter \nPreis:\nAb 12 Jahren\nSelbstbehalt: 15€ /10€ Spark7\nInklusive Mittagessen.\nEs gilt die Helmpflicht\, Schützer sind von Vorteil. \nAnmeldung:\nbei Vanessa 0664/2105964 \n  \nSei kein Lauch und schwing dich auf den Berg!
URL:https://www.ojb.at/kalender/ojb-shred-day-im-snowpark-damuels/
LOCATION:Snowpark Damüls\, Uga 74\, Damüls\, Vorarlberg\, 884\, Österreich
CATEGORIES:Offene Jugendarbeit Bregenzerwald
ATTACH;FMTTYPE=image/jpeg:https://www.ojb.at/wp-content/uploads/2020/02/Plakat_ojb_Shred_Day_2020-1.jpg
END:VEVENT
END:VCALENDAR