BEGIN:VCALENDAR
VERSION:2.0
PRODID:-//OJB - ECPv5.10.0//NONSGML v1.0//EN
CALSCALE:GREGORIAN
METHOD:PUBLISH
X-WR-CALNAME:OJB
X-ORIGINAL-URL:https://www.ojb.at
X-WR-CALDESC:Veranstaltungen für OJB
BEGIN:VTIMEZONE
TZID:Europe/Berlin
BEGIN:DAYLIGHT
TZOFFSETFROM:+0100
TZOFFSETTO:+0200
TZNAME:CEST
DTSTART:20190331T010000
END:DAYLIGHT
BEGIN:STANDARD
TZOFFSETFROM:+0200
TZOFFSETTO:+0100
TZNAME:CET
DTSTART:20191027T010000
END:STANDARD
END:VTIMEZONE
BEGIN:VEVENT
DTSTART;TZID=Europe/Berlin:20190223T093000
DTEND;TZID=Europe/Berlin:20190223T173000
DTSTAMP:20260423T022550
CREATED:20190207T100145Z
LAST-MODIFIED:20190207T100145Z
UID:1282-1550914200-1550943000@www.ojb.at
SUMMARY:ojb Shredday 2019 in Damüls
DESCRIPTION:Passionierte Boarder und Skiier\, wie Simon Geminiani und Dipl. Trainer Lukas Ellenshon\, beide Rider im Freestyleteam Damüls. Sie zeigen dir coole Moves auf den brandneuen Rails und Boxen im Snowpark Damüls. \nTag und Ort\nInklusive Mittagessen.\nHelmpﬂicht\, Schützer von Vorteil\, komm mit deiner Ausrüstung und „HAVE FUN“! \nFür Jugendliche ab 12 Jahren\nSelbstbehalt: € 15.- und € 10.- für Spark7 Mitglieder \n  \nAnmeldung\nAnmeldung bei Vanessa unter +43 6642105964 OJB
URL:https://www.ojb.at/kalender/ojb-shredday-2019-in-damuels/
LOCATION:Snowpark Damüls\, Uga 74\, Damüls\, Vorarlberg\, 884\, Österreich
ATTACH;FMTTYPE=image/jpeg:https://www.ojb.at/wp-content/uploads/2019/02/ojb_ShredDay_Damüls_Plakat-A3_web.jpg
END:VEVENT
END:VCALENDAR