BEGIN:VCALENDAR
VERSION:2.0
PRODID:-//OJB - ECPv5.10.0//NONSGML v1.0//EN
CALSCALE:GREGORIAN
METHOD:PUBLISH
X-WR-CALNAME:OJB
X-ORIGINAL-URL:https://www.ojb.at
X-WR-CALDESC:Veranstaltungen für OJB
BEGIN:VTIMEZONE
TZID:Europe/Berlin
BEGIN:DAYLIGHT
TZOFFSETFROM:+0100
TZOFFSETTO:+0200
TZNAME:CEST
DTSTART:20190331T010000
END:DAYLIGHT
BEGIN:STANDARD
TZOFFSETFROM:+0200
TZOFFSETTO:+0100
TZNAME:CET
DTSTART:20191027T010000
END:STANDARD
END:VTIMEZONE
BEGIN:VEVENT
DTSTART;TZID=Europe/Berlin:20190323T161500
DTEND;TZID=Europe/Berlin:20190323T170000
DTSTAMP:20260422T181906
CREATED:20190123T133336Z
LAST-MODIFIED:20190123T133336Z
UID:1197-1553357700-1553360400@www.ojb.at
SUMMARY:Papier-la-papp Tanztheater
DESCRIPTION:Eine Entdeckungsreise in die Fantasiewelt aus Papier\nEine Tänzerin\, ein Tänzer und ein Musiker finden sich in einer Welt aus Papier wieder\, in der sie die Vielfältigkeit dieses Materials und seine wandelbare Form kennenlernen. Humorvolle und abstrakte\, melodische und rhythmische Klänge unterstreichen das bunte Treiben auf der Bühne. \n  \n23.03.19 / 16.15 Uhr\nBORG Egg\nMusik: Remo Rauscher / Schauspiel: Ben Pascal / Tanz: Silvia Salzmann / Regie: Anna Spitzbart / Produziert von Die ALLEE-Kunstprojekte (Wien) & BACKLAB Collective (Linz) \nab 3 Jahren\nDauer: ca. 45 Minuten \nMit freundlicher Unterstützung von\nBehmann Mode – Papier – Spiel
URL:https://www.ojb.at/kalender/papier-la-papp-tanztheater/
LOCATION:Borg Egg\, Pfister 925\, Egg\, Vorarlberg\, 6863\, Österreich
CATEGORIES:Offene Jugendarbeit Bregenzerwald
ORGANIZER;CN="Kuno%20Kinderkultur":MAILTO:hallo@kunokinderkultur.at
END:VEVENT
END:VCALENDAR