BEGIN:VCALENDAR
VERSION:2.0
PRODID:-//OJB - ECPv5.10.0//NONSGML v1.0//EN
CALSCALE:GREGORIAN
METHOD:PUBLISH
X-WR-CALNAME:OJB
X-ORIGINAL-URL:https://www.ojb.at
X-WR-CALDESC:Veranstaltungen für OJB
BEGIN:VTIMEZONE
TZID:Europe/Berlin
BEGIN:DAYLIGHT
TZOFFSETFROM:+0100
TZOFFSETTO:+0200
TZNAME:CEST
DTSTART:20190331T010000
END:DAYLIGHT
BEGIN:STANDARD
TZOFFSETFROM:+0200
TZOFFSETTO:+0100
TZNAME:CET
DTSTART:20191027T010000
END:STANDARD
END:VTIMEZONE
BEGIN:VEVENT
DTSTART;TZID=Europe/Berlin:20190712T160000
DTEND;TZID=Europe/Berlin:20190712T190000
DTSTAMP:20260421T121426
CREATED:20190626T124745Z
LAST-MODIFIED:20190626T124923Z
UID:1449-1562947200-1562958000@www.ojb.at
SUMMARY:Pop-Up Eisdiele „Little Wien“ in Doren
DESCRIPTION:  \nKlein Wien in Doren verwandelt sich am 12. Juli in die „Little Wien“ Eisdiele. Wir machen Eis- und Milchshakes und servieren Eis in der Tüte. \n  \nMehr Infos über Klein Wien in Doren.
URL:https://www.ojb.at/kalender/pop-up-eisdiele-little-wien-in-doren/
LOCATION:Klein Wien Doren\, Kirchdorf 168\, Doren\, Vorarlberg\, 6933\, Österreich
CATEGORIES:Offene Jugendarbeit Bregenzerwald
ATTACH;FMTTYPE=image/jpeg:https://www.ojb.at/wp-content/uploads/2019/06/aron-visuals-4-cUMjy98N8-unsplash.jpg
END:VEVENT
END:VCALENDAR