BEGIN:VCALENDAR
VERSION:2.0
PRODID:-//OJB - ECPv5.10.0//NONSGML v1.0//EN
CALSCALE:GREGORIAN
METHOD:PUBLISH
X-WR-CALNAME:OJB
X-ORIGINAL-URL:https://www.ojb.at
X-WR-CALDESC:Veranstaltungen für OJB
BEGIN:VTIMEZONE
TZID:Europe/Berlin
BEGIN:DAYLIGHT
TZOFFSETFROM:+0100
TZOFFSETTO:+0200
TZNAME:CEST
DTSTART:20180325T010000
END:DAYLIGHT
BEGIN:STANDARD
TZOFFSETFROM:+0200
TZOFFSETTO:+0100
TZNAME:CET
DTSTART:20181028T010000
END:STANDARD
END:VTIMEZONE
BEGIN:VEVENT
DTSTART;TZID=Europe/Berlin:20181013T180000
DTEND;TZID=Europe/Berlin:20181013T220000
DTSTAMP:20260421T133437
CREATED:20181009T124517Z
LAST-MODIFIED:20181009T124517Z
UID:1117-1539453600-1539468000@www.ojb.at
SUMMARY:s´Free Egg – Offener Betrieb im Jugendraum
DESCRIPTION:Besuch uns doch im s´Free Egg\, bei gutem Sound\, kühlen Drinks und Snacks in gemütlicher Atmosphäre bzw. auf voller Tanzfläche ;). \nGib deiner Kreativität Raum\, setze deine Ideen um und sei mittendrin und nicht nur dabei. \nWir sind immer offen für neue Teammitglieder\, die den Jugendraum unterstützen und beleben. Deine Tätigkeiten wären unter anderem: Bar Dienst\, DJ\, Organisation von Veranstaltungen\, Teamausflüge genießen und Vieles mehr. \nDas s´Free Team und die OJB freuen sich auf Dich!
URL:https://www.ojb.at/kalender/sfree-egg-offener-betrieb-im-jugendraum-22/
LOCATION:s´Free Egg\, Loco (Arche)\, Egg\, 6863\, Österreich
ATTACH;FMTTYPE=image/png:https://www.ojb.at/wp-content/uploads/2018/02/sfreeegg_jugend.png
END:VEVENT
END:VCALENDAR