BEGIN:VCALENDAR
VERSION:2.0
PRODID:-//OJB - ECPv5.10.0//NONSGML v1.0//EN
CALSCALE:GREGORIAN
METHOD:PUBLISH
X-WR-CALNAME:OJB
X-ORIGINAL-URL:https://www.ojb.at
X-WR-CALDESC:Veranstaltungen für OJB
BEGIN:VTIMEZONE
TZID:Europe/Berlin
BEGIN:DAYLIGHT
TZOFFSETFROM:+0100
TZOFFSETTO:+0200
TZNAME:CEST
DTSTART:20180325T010000
END:DAYLIGHT
BEGIN:STANDARD
TZOFFSETFROM:+0200
TZOFFSETTO:+0100
TZNAME:CET
DTSTART:20181028T010000
END:STANDARD
BEGIN:DAYLIGHT
TZOFFSETFROM:+0100
TZOFFSETTO:+0200
TZNAME:CEST
DTSTART:20190331T010000
END:DAYLIGHT
BEGIN:STANDARD
TZOFFSETFROM:+0200
TZOFFSETTO:+0100
TZNAME:CET
DTSTART:20191027T010000
END:STANDARD
END:VTIMEZONE
BEGIN:VEVENT
DTSTART;TZID=Europe/Berlin:20181231T220000
DTEND;TZID=Europe/Berlin:20190101T010000
DTSTAMP:20260422T104715
CREATED:20181009T122356Z
LAST-MODIFIED:20181009T122356Z
UID:1104-1546293600-1546304400@www.ojb.at
SUMMARY:Silvester Party – Happy New Year
DESCRIPTION:  \n  \nIm Jugendraum Buch.\nMit beheiztem Partyzelt vor dem Jugendraum.\nFür Jung und Alt!
URL:https://www.ojb.at/kalender/silvester-party-happy-new-year/
LOCATION:Jugendraum Buch\, Heimen 67\, Buch\, Vorarlberg\, 6960\, Österreich
CATEGORIES:Jugend Aktiv Buch
ATTACH;FMTTYPE=image/jpeg:https://www.ojb.at/wp-content/uploads/2018/10/silvester_Party_buch.jpeg
END:VEVENT
END:VCALENDAR