BEGIN:VCALENDAR
VERSION:2.0
PRODID:-//OJB - ECPv5.10.0//NONSGML v1.0//EN
CALSCALE:GREGORIAN
METHOD:PUBLISH
X-WR-CALNAME:OJB
X-ORIGINAL-URL:https://www.ojb.at
X-WR-CALDESC:Veranstaltungen für OJB
BEGIN:VTIMEZONE
TZID:Europe/Berlin
BEGIN:DAYLIGHT
TZOFFSETFROM:+0100
TZOFFSETTO:+0200
TZNAME:CEST
DTSTART:20180325T010000
END:DAYLIGHT
BEGIN:STANDARD
TZOFFSETFROM:+0200
TZOFFSETTO:+0100
TZNAME:CET
DTSTART:20181028T010000
END:STANDARD
END:VTIMEZONE
BEGIN:VEVENT
DTSTART;VALUE=DATE:20180711
DTEND;VALUE=DATE:20180712
DTSTAMP:20260422T003156
CREATED:20180619T071439Z
LAST-MODIFIED:20180619T071531Z
UID:959-1531267200-1531353599@www.ojb.at
SUMMARY:Spark7 Busfahrt in den Europa-Park
DESCRIPTION:Tagesausflug in den Europapark mit Spark7. \n  \nEINSTIEGSSTELLEN:\n04:30 Uhr Schruns Aktivpark\n04:50 Uhr Bludenz Bahnhof\n05:05 Uhr Rankweil OBI\n05:10 Uhr Egg Zentrum\n05:20 Uhr Hohenems McDonald’s\n05:30 Uhr Dornbirn Haupteingang Messe\n05:40 Uhr Bregenz Festspielparkplatz\nRÜCKFAHRT um 18:00 Uhr \n  \nPREISE:\nspark7 Members: 53 Euro\nSparkassen-KundInnen: 72 Euro\nNormalpreis: 79 Euro\n(Preis inkl. Busfahrt\, Jause und Eintritt) \n  \nANMELDUNG AUF:\nwww.sparkasse.at/vorarlberg/erlebnisfahrt\nDie Buchung ist erst gültig nach Erhalt der Reisebestätigung.
URL:https://www.ojb.at/kalender/spark7-busfahrt-in-den-europa-park/
LOCATION:Europapark\, Europa-Park-Straße 2\, Rust\, 77977\, Deutschland
CATEGORIES:Offene Jugendarbeit Bregenzerwald
ATTACH;FMTTYPE=image/jpeg:https://www.ojb.at/wp-content/uploads/2018/06/A3_spark7_Europapark_0418_druck-3.jpg
END:VEVENT
END:VCALENDAR