BEGIN:VCALENDAR
VERSION:2.0
PRODID:-//OJB - ECPv5.10.0//NONSGML v1.0//EN
CALSCALE:GREGORIAN
METHOD:PUBLISH
X-WR-CALNAME:OJB
X-ORIGINAL-URL:https://www.ojb.at
X-WR-CALDESC:Veranstaltungen für OJB
BEGIN:VTIMEZONE
TZID:Europe/Berlin
BEGIN:DAYLIGHT
TZOFFSETFROM:+0100
TZOFFSETTO:+0200
TZNAME:CEST
DTSTART:20180325T010000
END:DAYLIGHT
BEGIN:STANDARD
TZOFFSETFROM:+0200
TZOFFSETTO:+0100
TZNAME:CET
DTSTART:20181028T010000
END:STANDARD
END:VTIMEZONE
BEGIN:VEVENT
DTSTART;TZID=Europe/Berlin:20181124T140000
DTEND;TZID=Europe/Berlin:20181124T180000
DTSTAMP:20260422T004211
CREATED:20181009T130322Z
LAST-MODIFIED:20181009T130322Z
UID:1144-1543068000-1543082400@www.ojb.at
SUMMARY:XMAS-Linolschnitt Workshop mit Studio Aligate – Kreativstube
DESCRIPTION:Welcome!\nJasmin + Felix von studio aligate begrüßen euch in den Räumlichkeiten und weisen in die Linoldruck-Werkstatt ein. Neben Kniffen zur Handhabung von Werkzeug und Co.\, der Ideenfindung und Motiverstellung bekommt ihr einen kurzen\, theoretischen Einblick in das Druckhandwerk des Linolschnitts. Am Ende wisst ihr genau Bescheid\, wenn mal jemand über die “verlorene Form” spricht. \nHands-On!\nJetzt seid ihr an der Reihe. Wählt aus den vorgegebenen Designs oder kreiert eure eigenen Kunstwerke. Damit ihr ein Gefühl für die verschiedenen Materialien bekommt\, wird mit einer A4 Linolplatte und drei kleinen quadratische Platten gearbeitet. Jasmin + Felix zeigen\, wie ihr richtig schneidet\, Farbe mischt und euer eigenes Geschenkpapier\, weihnachtliche Grußkarten oder Geschenkanhänger druckt. Ihr habt den Freiraum\, um zu gestalten was ihr wollt. \nPlease Bring!\nKleidung\, die bunt werden darf – Linoldruck kann nämlich messy werden. Eine Schere und/oder Cutter könnt ihr für die Weiterverarbeitung eurer Drucke gerne mitbringen. Am Ende sollt ihr eure Drucke sicher heim transportieren\, dafür können wir euch Papier zum einwickeln anbieten oder ihr bringt eine Mappe/Folie mit. \nTermine\n23.11.2018\, 14–18 Uhr oder\n24.11.2018\, 14–18 Uhr \nTeilnehmegebühr\nStudierende/SchülerInnen 70\,– €\nNormalpreis 85\,– €\nPreise sind inkl. 1x A4 Linolplatte und 3 Softcut-Platten\, Farben\, Pauspapier\, verschiedene Papiere zum Bedrucken\, Snacks & Getränke und Spaß\, natürlich.\nDas Schneidewerkzeug stellen wir euch zur Verfügung.\nWenn ihr mehr Platten braucht\, könnt ihr diese vor Ort günstig kaufen. \nAnmeldung\nAnmeldung: simone@ojb.at\nLimitierte Plätze! \nOrt \nDie Gute Stube\,\nHof 432\, 6866 Andelsbuch \n  \nstudio aligate
URL:https://www.ojb.at/kalender/xmas-linolschnitt-workshop-mit-studio-aligate-kreativstube-2/
LOCATION:Die Gute Stube\, Hof 432\, Andelsbuch\, Vorarlberg\, 6866\, Österreich
CATEGORIES:Die Gute Stube,Offene Jugendarbeit Bregenzerwald
ATTACH;FMTTYPE=image/jpeg:https://www.ojb.at/wp-content/uploads/2018/10/aligate-linoprint-workshop-website1.jpeg
ORGANIZER;CN="Die%20Gute%20Stube":MAILTO:simone@ojb.at
END:VEVENT
END:VCALENDAR